BEGIN:VCALENDAR
PRODID:-//eluceo/ical//2.0/EN
VERSION:2.0
CALSCALE:GREGORIAN
BEGIN:VEVENT
UID:8f0bf4998ffd130892fc3623b59bfaa4
DTSTAMP:20260424T060020Z
SUMMARY:"I am Greta" im Open Air Cinema Luzern
DESCRIPTION:Unter dem Patronat der Stadt Luzern zeigt das Open-Air-Kino Luz
 ern «I\nam Greta». Der Dokumentarfilm zeigt auf sensible Weise das Leben
  der\njungen Schwedin Greta Thunberg\, die mit ihrem Kampf für den\nKlima
 schutz eine ganze Bewegung ausgelöst hat.\n
DTSTART:20210811T190000Z
DTEND:20210811T210000Z
LOCATION:Am See bei der Aula Alpenquai\, 6005 Luzern
GEO:47.042521;8.324574
X-APPLE-STRUCTURED-LOCATION;VALUE=URI;X-ADDRESS=Am See bei der Aula Alpenqu
 ai\, 6005 Luzern;X-APPLE-RADIUS=49;X-TITLE=:geo:47.042521,8.324574
END:VEVENT
END:VCALENDAR
