BEGIN:VCALENDAR
PRODID:-//eluceo/ical//2.0/EN
VERSION:2.0
CALSCALE:GREGORIAN
BEGIN:VEVENT
UID:960ef0390c6d9faf21a7b483ee810674
DTSTAMP:20260424T060047Z
SUMMARY:Waldspaziergang – wie der Mensch das Ökosystem Wald prägt
DESCRIPTION:Führung und Diskussion\n
DTSTART:20210706T160000Z
DTEND:20210706T170000Z
LOCATION:Kasernenplatz 6\, 6003 Luzern
GEO:47.051635;8.300946
X-APPLE-STRUCTURED-LOCATION;VALUE=URI;X-ADDRESS=Kasernenplatz 6\, 6003 Luze
 rn;X-APPLE-RADIUS=49;X-TITLE=:geo:47.051635,8.300946
END:VEVENT
END:VCALENDAR
