BEGIN:VCALENDAR
PRODID:-//eluceo/ical//2.0/EN
VERSION:2.0
CALSCALE:GREGORIAN
BEGIN:VEVENT
UID:60f260b95fdb3ec39842b516a8ed0b9c
DTSTAMP:20260422T110412Z
SUMMARY:Linde\, Buche\, Fichte
DESCRIPTION:Öffentliche Führung mit Pro Infirmis\n
DTSTART:20210612T090000Z
DTEND:20210612T103000Z
END:VEVENT
END:VCALENDAR
