BEGIN:VCALENDAR
PRODID:-//eluceo/ical//2.0/EN
VERSION:2.0
CALSCALE:GREGORIAN
BEGIN:VEVENT
UID:2021096a20fdeb23ea327a29451c5890
DTSTAMP:20260424T060108Z
SUMMARY:Stadtwildtiere - unsere wilden Nachbarn
DESCRIPTION:Öffentliche Führung mit Stephie Burkart.\n
DTSTART:20210601T160000Z
DTEND:20210601T170000Z
END:VEVENT
END:VCALENDAR
