BEGIN:VCALENDAR
PRODID:-//eluceo/ical//2.0/EN
VERSION:2.0
CALSCALE:GREGORIAN
BEGIN:VEVENT
UID:fe03f295b4bbcdf07caa88e7fd84d326
DTSTAMP:20260422T110443Z
SUMMARY:less waste - einfacher leben
DESCRIPTION:In diesem Workshop zeige ich dir Möglichkeiten auf\, wo und wi
 e du\nless waste einfach im Alltag integrieren kannst.\n
DTSTART:20210517T173000Z
DTEND:20210517T193000Z
END:VEVENT
END:VCALENDAR
