BEGIN:VCALENDAR
PRODID:-//eluceo/ical//2.0/EN
VERSION:2.0
CALSCALE:GREGORIAN
BEGIN:VEVENT
UID:aead5640e0357747e6d15e4265b7a4c2
DTSTAMP:20260424T060131Z
SUMMARY:Wissen Sie wirklich\, was Sie einatmen? 
DESCRIPTION:Der Wunsch nach einem gesunden Innenraumklima sowie das zunehme
 nde\nUmweltbewusstsein erfordern eine sorgfältige Wahl der Baustoffe.\nIn
 sbesondere Innenraum-relevante Materialien sollten schadstoff- und\nemissi
 onsfrei sein.\nOnline-Seminar\n
DTSTART:20210510T140000Z
DTEND:20210510T150000Z
END:VEVENT
END:VCALENDAR
