BEGIN:VCALENDAR
PRODID:-//eluceo/ical//2.0/EN
VERSION:2.0
CALSCALE:GREGORIAN
BEGIN:VEVENT
UID:326fca91df2e489fe237d89eec543861
DTSTAMP:20260424T060145Z
SUMMARY:KlimaGespräche: Willst auch du dein Leben auf Klimakurs bringen?
DESCRIPTION:Die KlimaGespräche unterstützen dich dabei. An sechs Abenden 
 schaust\ndu dir dein Verhalten in Bezug auf Wohnen\, Mobilität\, Essen un
 d\nKonsum an und suchst gemeinsam mit anderen nach Schritten hin zu einem\
 nklimafreundlichen Leben.\n
DTSTART:20210508T121500Z
DTEND:20210508T141500Z
LOCATION:Spitalstrasse 93\, 6005 Luzern
GEO:47.055705;8.292388
X-APPLE-STRUCTURED-LOCATION;VALUE=URI;X-ADDRESS=Spitalstrasse 93\, 6005 Luz
 ern;X-APPLE-RADIUS=49;X-TITLE=:geo:47.055705,8.292388
END:VEVENT
END:VCALENDAR
