BEGIN:VCALENDAR
PRODID:-//eluceo/ical//2.0/EN
VERSION:2.0
CALSCALE:GREGORIAN
BEGIN:VEVENT
UID:88d18608bb3fbd7ea9044225afe1ae22
DTSTAMP:20260422T124234Z
SUMMARY:Tag des offenen Feldes der Randebandi
DESCRIPTION:Die Gemüsebaukooperative bietet Interessenten Einblicke in die
 \nsolidarische Landwirtschaft und die Prozesse hinter dem lokalen\,\nnachh
 altigen Gemüseabonnement.\n
DTSTART:20210417T120000Z
DTEND:20210417T130000Z
LOCATION:Rippertschwand\, 6206 Neuenkirch
GEO:47.097945;8.223733
X-APPLE-STRUCTURED-LOCATION;VALUE=URI;X-ADDRESS=Rippertschwand\, 6206 Neuen
 kirch;X-APPLE-RADIUS=49;X-TITLE=:geo:47.097945,8.223733
END:VEVENT
END:VCALENDAR
