BEGIN:VCALENDAR
PRODID:-//eluceo/ical//2.0/EN
VERSION:2.0
CALSCALE:GREGORIAN
BEGIN:VEVENT
UID:723bb87cc92cefb5df5684bc2eabaa05
DTSTAMP:20260422T124956Z
SUMMARY:less waste - einfach starten
DESCRIPTION:In diesem Workshop vermitteln wir dir\, wo und wie du less wast
 e\neinfach im Alltag integrieren kannst.\n
DTSTART:20210329T173000Z
DTEND:20210329T193000Z
END:VEVENT
END:VCALENDAR
