BEGIN:VCALENDAR
PRODID:-//eluceo/ical//2.0/EN
VERSION:2.0
CALSCALE:GREGORIAN
BEGIN:VEVENT
UID:f5888024b2e517df6b6b9aaaa64d649d
DTSTAMP:20260424T060240Z
SUMMARY:Naherholungsgebiet Friedental
DESCRIPTION:Erleben Sie unter fachkundiger Führung die vielfältige Fauna 
 und\nFlora im neu entstandenen Naherholungsgebiet Friedental.\n
DTSTART:20210623T160000Z
DTEND:20210623T180000Z
LOCATION:Friedentalstrasse 60\, 6004 Luzern
GEO:47.059283;8.291805
X-APPLE-STRUCTURED-LOCATION;VALUE=URI;X-ADDRESS=Friedentalstrasse 60\, 6004
  Luzern;X-APPLE-RADIUS=49;X-TITLE=:geo:47.059283,8.291805
END:VEVENT
END:VCALENDAR
