BEGIN:VCALENDAR
PRODID:-//eluceo/ical//2.0/EN
VERSION:2.0
CALSCALE:GREGORIAN
BEGIN:VEVENT
UID:8c761077f367f1389a745837584acd9e
DTSTAMP:20260424T060259Z
SUMMARY:AUSGEBUCHT: Goldener Schnitt - Sensenschnittkurs
DESCRIPTION:Damit ihre Blumenwiese in allen Farben erblüht\, ist die richt
 ige\nPflege entscheidend.\n
DTSTART:20210622T170000Z
DTEND:20210622T190000Z
LOCATION:Bushaltestelle Zihlmattweg\, 6005 Luzern
GEO:47.031211;8.303731
X-APPLE-STRUCTURED-LOCATION;VALUE=URI;X-ADDRESS=Bushaltestelle Zihlmattweg\
 , 6005 Luzern;X-APPLE-RADIUS=49;X-TITLE=:geo:47.031211,8.303731
END:VEVENT
END:VCALENDAR
