BEGIN:VCALENDAR
PRODID:-//eluceo/ical//2.0/EN
VERSION:2.0
CALSCALE:GREGORIAN
BEGIN:VEVENT
UID:b1de87b6add199762e15af4c2647cdc8
DTSTAMP:20260424T060318Z
SUMMARY: «Handlettering by nature»
DESCRIPTION:Wir üben uns in «Handlettering»\, dem Zeichnen von Buchstabe
 n. Die\nSchreibgeräte dafür basteln wir aus verschiedensten Naturmateria
 lien\nselber.\n
DTSTART:20210609T120000Z
DTEND:20210609T150000Z
LOCATION:Löwenplatz 10\, 6004 Luzern
GEO:47.057071;8.311230
X-APPLE-STRUCTURED-LOCATION;VALUE=URI;X-ADDRESS=Löwenplatz 10\, 6004 Luzer
 n;X-APPLE-RADIUS=49;X-TITLE=:geo:47.057071,8.311230
END:VEVENT
END:VCALENDAR
