BEGIN:VCALENDAR
PRODID:-//eluceo/ical//2.0/EN
VERSION:2.0
CALSCALE:GREGORIAN
BEGIN:VEVENT
UID:2b0339c1ed2c0596f76ed9bcbf041ea8
DTSTAMP:20260424T060333Z
SUMMARY:Ausgebucht: Vegane Ernährung – Tipps und Tricks für den Alltag
DESCRIPTION:Eine vollwertige\, vegane Ernährung hat einen sehr positiven E
 influss\nauf unsere Umwelt und die Tiere. Dazu kann sie sich auch noch gü
 nstig\nauf die Gesundheit auswirken und zur sozialen Gerechtigkeit beitrag
 en.\n
DTSTART:20210608T153000Z
DTEND:20210608T164500Z
LOCATION:St. Karliquai 7\, 6004 Luzern
GEO:47.052567;8.301378
X-APPLE-STRUCTURED-LOCATION;VALUE=URI;X-ADDRESS=St. Karliquai 7\, 6004 Luze
 rn;X-APPLE-RADIUS=49;X-TITLE=:geo:47.052567,8.301378
END:VEVENT
END:VCALENDAR
