BEGIN:VCALENDAR
PRODID:-//eluceo/ical//2.0/EN
VERSION:2.0
CALSCALE:GREGORIAN
BEGIN:VEVENT
UID:ce44d8c994e22e60ac2aaa3b5a2b2235
DTSTAMP:20260424T060353Z
SUMMARY:Abendkonzert auf der Allmend
DESCRIPTION:Auf einem Spaziergang über die Allmend lauschen wir den Rufen 
 der\nGelbbauchunken und widmen uns dem abendlichen Konzert der Grillen und
 \nVögel.\n
DTSTART:20210531T180000Z
DTEND:20210531T200000Z
LOCATION:Bushaltestelle Zihlmattweg\, 6005 Luzern
GEO:47.031211;8.303731
X-APPLE-STRUCTURED-LOCATION;VALUE=URI;X-ADDRESS=Bushaltestelle Zihlmattweg\
 , 6005 Luzern;X-APPLE-RADIUS=49;X-TITLE=:geo:47.031211,8.303731
END:VEVENT
END:VCALENDAR
