BEGIN:VCALENDAR
PRODID:-//eluceo/ical//2.0/EN
VERSION:2.0
CALSCALE:GREGORIAN
BEGIN:VEVENT
UID:343bd11f5d13d76b6a12c2fde1b1ff8c
DTSTAMP:20260424T060411Z
SUMMARY:AUSGEBUCHT: Wildbienen in der Stadt
DESCRIPTION:Eine Bienenart kennen wir alle – die Honigbiene. Sie ist aber
  nur\neine von über 600 Wildbienenarten in der Schweiz. Auch in der\nStad
 t Luzern lebt eine Vielzahl ganz unterschiedlicher Arten.\n
DTSTART:20210529T120000Z
DTEND:20210529T140000Z
LOCATION:Bushaltestelle Brüel\, 6006 Luzern
GEO:47.053069;8.339002
X-APPLE-STRUCTURED-LOCATION;VALUE=URI;X-ADDRESS=Bushaltestelle Brüel\, 600
 6 Luzern;X-APPLE-RADIUS=49;X-TITLE=:geo:47.053069,8.339002
END:VEVENT
END:VCALENDAR
