BEGIN:VCALENDAR
PRODID:-//eluceo/ical//2.0/EN
VERSION:2.0
CALSCALE:GREGORIAN
BEGIN:VEVENT
UID:d4d98326bf07438ba7c8e786a2054d3f
DTSTAMP:20260424T060420Z
SUMMARY:Klimaspaziergang in Luzern (27.5.21)
DESCRIPTION:Die Stadt Luzern möchte eine Vorbildrolle bezüglich Klimaschu
 tz und\nKlimaanpassung einnehmen. Auf einem Stadtspaziergang zeigen Fachle
 ute\,\nwas die Stadt Luzern unternimmt\, um diesem grossen Ziel\nnäherzuk
 ommen.\n
DTSTART:20210527T153000Z
DTEND:20210527T170000Z
LOCATION:Schwanenplatz 2\, 6004 Luzern
GEO:47.053581;8.308764
X-APPLE-STRUCTURED-LOCATION;VALUE=URI;X-ADDRESS=Schwanenplatz 2\, 6004 Luze
 rn;X-APPLE-RADIUS=49;X-TITLE=:geo:47.053581,8.308764
END:VEVENT
END:VCALENDAR
