BEGIN:VCALENDAR
PRODID:-//eluceo/ical//2.0/EN
VERSION:2.0
CALSCALE:GREGORIAN
BEGIN:VEVENT
UID:942df5365436397c9cec8fcc08282db0
DTSTAMP:20260422T105728Z
SUMMARY:Klimaspaziergang in Luzern (21.5.21)
DESCRIPTION:Die Stadt Luzern möchte eine Vorbildrolle bezüglich Klimaschu
 tz und\nKlimaanpassung einnehmen. Auf einem Stadtspaziergang zeigen Fachle
 ute\,\nwas die Stadt Luzern unternimmt\, um diesem grossen Ziel\nnäherzuk
 ommen.\n
DTSTART:20210521T153000Z
DTEND:20210521T170000Z
LOCATION:Schwanenplatz 2\, 6004 Luzern
GEO:47.053559;8.308775
X-APPLE-STRUCTURED-LOCATION;VALUE=URI;X-ADDRESS=Schwanenplatz 2\, 6004 Luze
 rn;X-APPLE-RADIUS=49;X-TITLE=:geo:47.053559,8.308775
END:VEVENT
END:VCALENDAR
