BEGIN:VCALENDAR
PRODID:-//eluceo/ical//2.0/EN
VERSION:2.0
CALSCALE:GREGORIAN
BEGIN:VEVENT
UID:60a4c86b60cfeebdac69983f34cd8e6b
DTSTAMP:20260424T060430Z
SUMMARY:Pflanzentauschbörse mit Führung im Klostergarten Wesemlin
DESCRIPTION:An der Pflanzentauschbörse können Stauden\, Kräuter\, Zwiebe
 lpflanzen\nund Setzlinge aus dem eigenen Garten kostenlos oder gegen eine 
 kleine\nSpende getauscht werden. Und es findet eine Führung durch den\nKl
 ostergarten statt.\n
DTSTART:20210508T120000Z
DTEND:20210508T150000Z
LOCATION:Klostergarten Wesemlin\, 6006 Luzern
GEO:47.061598;8.313342
X-APPLE-STRUCTURED-LOCATION;VALUE=URI;X-ADDRESS=Klostergarten Wesemlin\, 60
 06 Luzern;X-APPLE-RADIUS=49;X-TITLE=:geo:47.061598,8.313342
END:VEVENT
END:VCALENDAR
