BEGIN:VCALENDAR
PRODID:-//eluceo/ical//2.0/EN
VERSION:2.0
CALSCALE:GREGORIAN
BEGIN:VEVENT
UID:537f15d9b66789093810c1a957ae04c6
DTSTAMP:20260424T060435Z
SUMMARY:AUSGEBUCHT: Lebensraum Museggmauer
DESCRIPTION:In den Abendstunden im Frühling herrscht reges Treiben an den\
 nFlanken und Türmen der Museggmauer. Dohlen kümmern sich\nlautstark um i
 hren Nachwuchs\, Gänsesäger beziehen ihre luftigen\nBrutnischen und Maue
 rsegler kehren nach langer Reise zurück.\n
DTSTART:20210505T160000Z
DTEND:20210505T180000Z
LOCATION:Bushaltestelle Bramberg\, 6004 Luzern
GEO:47.056203;8.304763
X-APPLE-STRUCTURED-LOCATION;VALUE=URI;X-ADDRESS=Bushaltestelle Bramberg\, 6
 004 Luzern;X-APPLE-RADIUS=49;X-TITLE=:geo:47.056203,8.304763
END:VEVENT
END:VCALENDAR
