BEGIN:VCALENDAR
PRODID:-//eluceo/ical//2.0/EN
VERSION:2.0
CALSCALE:GREGORIAN
BEGIN:VEVENT
UID:b36d54ecb604587680b1f211b30fdd45
DTSTAMP:20260424T060446Z
SUMMARY:Repair Cafés Luzern - Sommer Special
DESCRIPTION:Reparieren schont Budget und Umwelt – gemeinsam und unentgelt
 lich\n
DTSTART:20210807T090000Z
DTEND:20210807T130000Z
LOCATION:Löwenplatz 11\, 6004 Luzern
GEO:47.057015;8.310920
X-APPLE-STRUCTURED-LOCATION;VALUE=URI;X-ADDRESS=Löwenplatz 11\, 6004 Luzer
 n;X-APPLE-RADIUS=49;X-TITLE=:geo:47.057015,8.310920
END:VEVENT
END:VCALENDAR
