BEGIN:VCALENDAR
PRODID:-//eluceo/ical//2.0/EN
VERSION:2.0
CALSCALE:GREGORIAN
BEGIN:VEVENT
UID:d9fb7473bfcbc791063d5aeb00c10e55
DTSTAMP:20260422T052702Z
SUMMARY:Der Kapuzinergarten in den Jahreszeiten
DESCRIPTION:BotanikLyrikKulinarik\nHERBSTFARBEN\nZuhaus in der Villa Kunter
 bunt –\nBlätterdächer und ihre Verfärbungen\n\nein botanischer\, lite
 rarischer\, kulinarischer Spaziergang durch den\nKapuzinergarten.\n
DTSTART:20210925T140000Z
DTEND:20210925T153000Z
LOCATION:Wesemlinstrasse 42\, 6006 Luzern
GEO:47.061598;8.313342
X-APPLE-STRUCTURED-LOCATION;VALUE=URI;X-ADDRESS=Wesemlinstrasse 42\, 6006 L
 uzern;X-APPLE-RADIUS=49;X-TITLE=:geo:47.061598,8.313342
END:VEVENT
END:VCALENDAR
