BEGIN:VCALENDAR
PRODID:-//eluceo/ical//2.0/EN
VERSION:2.0
CALSCALE:GREGORIAN
BEGIN:VEVENT
UID:7499b5657291c9eceee153aa8b45e57a
DTSTAMP:20260424T060459Z
SUMMARY:Der Kapuzinergarten in den Jahreszeiten 
DESCRIPTION:BotanikLyrikKulinarik\nSOMMERFÜLLE unser täglich Brot – Get
 reidegräser und Farbtupfer im\nAcker ein botanischer\, literarischer\, ku
 linarischer Spaziergang durch\nden Kapuzinergarten.\n
DTSTART:20210626T140000Z
DTEND:20210626T153000Z
LOCATION:Wesemlinstrasse 42\, 6006 Luzern
GEO:47.061598;8.313342
X-APPLE-STRUCTURED-LOCATION;VALUE=URI;X-ADDRESS=Wesemlinstrasse 42\, 6006 L
 uzern;X-APPLE-RADIUS=49;X-TITLE=:geo:47.061598,8.313342
END:VEVENT
END:VCALENDAR
