BEGIN:VCALENDAR
PRODID:-//eluceo/ical//2.0/EN
VERSION:2.0
CALSCALE:GREGORIAN
BEGIN:VEVENT
UID:2c9a27f334ff4e0a3fe726dae4b13582
DTSTAMP:20260422T124335Z
SUMMARY:Der Kapuzinergarten in den Jahreszeiten    -   leider abgesagt!
DESCRIPTION:BotanikLyrikKulinarik - leider abgesagt!\nFRÜHLINGSERWACHEN\nE
 s grünt so grün –\nBiblisches Grünzeug und seine Grünkraft\nein bota
 nischer\, literarischer\, kulinarischer Spaziergang durch den\nKapuzinerga
 rten.\n
DTSTART:20210327T150000Z
DTEND:20210327T163000Z
LOCATION:Wesemlinstrasse 42\, 6006 Luzern
GEO:47.061598;8.313342
X-APPLE-STRUCTURED-LOCATION;VALUE=URI;X-ADDRESS=Wesemlinstrasse 42\, 6006 L
 uzern;X-APPLE-RADIUS=49;X-TITLE=:geo:47.061598,8.313342
END:VEVENT
END:VCALENDAR
