BEGIN:VCALENDAR
PRODID:-//eluceo/ical//2.0/EN
VERSION:2.0
CALSCALE:GREGORIAN
BEGIN:VEVENT
UID:28f3ecc2616fc135b78150ee6616af42
DTSTAMP:20260421T210827Z
SUMMARY:Giftsammlung Menznau für private Haushaltabfälle
DESCRIPTION:Gefährliche Sonderabfälle müssen fachgerecht entsorgt werden
 .\n
DTSTART:20221022T070000Z
DTEND:20221022T100000Z
LOCATION:Rickenstrasse 5\, 6122 Menznau
GEO:47.083177;8.038830
X-APPLE-STRUCTURED-LOCATION;VALUE=URI;X-ADDRESS=Rickenstrasse 5\, 6122 Menz
 nau;X-APPLE-RADIUS=49;X-TITLE=:geo:47.083177,8.038830
END:VEVENT
END:VCALENDAR
