BEGIN:VCALENDAR
PRODID:-//eluceo/ical//2.0/EN
VERSION:2.0
CALSCALE:GREGORIAN
BEGIN:VEVENT
UID:a5c47f020f2a0291fed2c34feb415295
DTSTAMP:20260422T112421Z
SUMMARY:Velofahrkurs: Kurs C "E-Bike-Kurs"
DESCRIPTION:Sie lernen in Theorie und Praxis\, mit dem E-Bike sicher unterw
 egs zu\nsein. Zudem geben praktische Tipps für Wartung und Unterhalt\nSic
 herheit und Vertrauen.\n\nFür Erwachsene und Jugendliche ab 14 Jahren (14
  bis 16-jährige nur\nmit Mofa-Ausweis).\n
DTSTART:20210515T070000Z
DTEND:20210515T100000Z
LOCATION:Pilatusstrasse 59\, 6003 Luzern
GEO:47.046874;8.302352
X-APPLE-STRUCTURED-LOCATION;VALUE=URI;X-ADDRESS=Pilatusstrasse 59\, 6003 Lu
 zern;X-APPLE-RADIUS=49;X-TITLE=:geo:47.046874,8.302352
END:VEVENT
END:VCALENDAR
