BEGIN:VCALENDAR
PRODID:-//eluceo/ical//2.0/EN
VERSION:2.0
CALSCALE:GREGORIAN
BEGIN:VEVENT
UID:6654d294d02cbcdab8a9adb5351154a1
DTSTAMP:20260424T060532Z
SUMMARY:Velofahrkurs: Kurs C "Sicher unterwegs"
DESCRIPTION:Übungen und Verhaltensregeln für den Stadtverkehr. Vom Überq
 ueren\nunübersichtlicher Kreuzungen über das Einspuren auf Hauptstrassen
 \nbis zur Routenwahl. Für Jugendliche ab 12 Jahren und Erwachsene\n(nicht
  für Anfänger).\n
DTSTART:20210529T070000Z
DTEND:20210529T100000Z
LOCATION:Pilatusstrasse 59\, 6003 Luzern
GEO:47.046874;8.302352
X-APPLE-STRUCTURED-LOCATION;VALUE=URI;X-ADDRESS=Pilatusstrasse 59\, 6003 Lu
 zern;X-APPLE-RADIUS=49;X-TITLE=:geo:47.046874,8.302352
END:VEVENT
END:VCALENDAR
