BEGIN:VCALENDAR
PRODID:-//eluceo/ical//2.0/EN
VERSION:2.0
CALSCALE:GREGORIAN
BEGIN:VEVENT
UID:5579729edf0fa75d86343376f25c7e11
DTSTAMP:20260422T105426Z
SUMMARY:Velofahrkurs: Kurs C "Sicher unterwegs"
DESCRIPTION:Übungen und Verhaltensregeln für den Stadtverkehr. Vom Überq
 ueren\nunübersichtlicher Kreuzungen über das Einspuren auf Hauptstrassen
 \nbis zur Routenwahl. Für Jugendliche ab 12 Jahren und Erwachsene\n(nicht
  für Anfänger).\n
DTSTART:20210515T113000Z
DTEND:20210515T143000Z
LOCATION:Pilatusstrasse 59\, 6003 Luzern
GEO:47.046874;8.302352
X-APPLE-STRUCTURED-LOCATION;VALUE=URI;X-ADDRESS=Pilatusstrasse 59\, 6003 Lu
 zern;X-APPLE-RADIUS=49;X-TITLE=:geo:47.046874,8.302352
END:VEVENT
END:VCALENDAR
