BEGIN:VCALENDAR
PRODID:-//eluceo/ical//2.0/EN
VERSION:2.0
CALSCALE:GREGORIAN
BEGIN:VEVENT
UID:a590e335fbd78e0496dbea6032639fc5
DTSTAMP:20260422T071801Z
SUMMARY:Velofahrkurs: Kurs A "Sicheres Terrain"
DESCRIPTION:Übungen im geschützten Raum (Verkehrsgarten oder Schulgeländ
 e). Wir\nvermitteln die elementaren Grundkenntnisse\, vom Aufsteigen bis z
 um\nselbstsicheren Kurven.\n\nFür Kinder ab 6 Jahren in Begleitung einer 
 erwachsenen Person.\n
DTSTART:20210904T113000Z
DTEND:20210904T143000Z
LOCATION:Pilatusstrasse 59\, 6003 Luzern
GEO:47.046874;8.302352
X-APPLE-STRUCTURED-LOCATION;VALUE=URI;X-ADDRESS=Pilatusstrasse 59\, 6003 Lu
 zern;X-APPLE-RADIUS=49;X-TITLE=:geo:47.046874,8.302352
END:VEVENT
END:VCALENDAR
