BEGIN:VCALENDAR
PRODID:-//eluceo/ical//2.0/EN
VERSION:2.0
CALSCALE:GREGORIAN
BEGIN:VEVENT
UID:6804625db44775a05b6450fb77576169
DTSTAMP:20260422T110033Z
SUMMARY:Velofahrkurs: Kurs A "Sicheres Terrain"
DESCRIPTION:Übungen im geschützten Raum (Verkehrsgarten oder Schulgeländ
 e). Wir\nvermitteln die elementaren Grundkenntnisse\, vom Aufsteigen bis z
 um\nselbstsicheren Kurven.\n\nFür Kinder ab 6 Jahren in Begleitung einer 
 erwachsenen Person.\n
DTSTART:20210612T070000Z
DTEND:20210612T100000Z
LOCATION:Kreuzbuchstrasse 60\, 6006 Luzern
GEO:47.053926;8.343190
X-APPLE-STRUCTURED-LOCATION;VALUE=URI;X-ADDRESS=Kreuzbuchstrasse 60\, 6006 
 Luzern;X-APPLE-RADIUS=49;X-TITLE=:geo:47.053926,8.343190
END:VEVENT
END:VCALENDAR
