BEGIN:VCALENDAR
PRODID:-//eluceo/ical//2.0/EN
VERSION:2.0
CALSCALE:GREGORIAN
BEGIN:VEVENT
UID:a64b641a68c4213f38606ebd1ac11eab
DTSTAMP:20260422T110054Z
SUMMARY:Velofahrkurs: Kurs B "Erste Ausfahrten"
DESCRIPTION:Wir üben im geschützten Raum und auf Quartierstrassen. Im\nMi
 ttelpunkt stehen die Regeln und das korrekte Verhalten im Verkehr.\nVom Ab
 standhalten über das Zeichengeben bis zum richtigen Abbiegen.\n\nFür Kin
 der ab 7 Jahren in Begleitung.\n
DTSTART:20210612T113000Z
DTEND:20210612T143000Z
LOCATION:Kreuzbuchstrasse 60\, 6006 Luzern
GEO:47.053926;8.343190
X-APPLE-STRUCTURED-LOCATION;VALUE=URI;X-ADDRESS=Kreuzbuchstrasse 60\, 6006 
 Luzern;X-APPLE-RADIUS=49;X-TITLE=:geo:47.053926,8.343190
END:VEVENT
END:VCALENDAR
