BEGIN:VCALENDAR
PRODID:-//eluceo/ical//2.0/EN
VERSION:2.0
CALSCALE:GREGORIAN
BEGIN:VEVENT
UID:7680c2cd5e2402d3a532bc525f0e6843
DTSTAMP:20260422T105942Z
SUMMARY:Velofahrkurs: Kurs B "Erste Ausfahrten"
DESCRIPTION:Wir üben im geschützten Raum und auf Quartierstrassen. Im\nMi
 ttelpunkt stehen die Regeln und das korrekte Verhalten im Verkehr.\nVom Ab
 standhalten über das Zeichengeben bis zum richtigen Abbiegen.\n\nFür Kin
 der ab 7 Jahren in Begleitung.\n
DTSTART:20210612T070000Z
DTEND:20210612T100000Z
LOCATION:Kreuzbuchstrasse 60\, 6006 Luzern
GEO:47.053926;8.343190
X-APPLE-STRUCTURED-LOCATION;VALUE=URI;X-ADDRESS=Kreuzbuchstrasse 60\, 6006 
 Luzern;X-APPLE-RADIUS=49;X-TITLE=:geo:47.053926,8.343190
END:VEVENT
END:VCALENDAR
