BEGIN:VCALENDAR
PRODID:-//eluceo/ical//2.0/EN
VERSION:2.0
CALSCALE:GREGORIAN
BEGIN:VEVENT
UID:d67dffdecbd48f6fe6e9fc9c8dba46ad
DTSTAMP:20260422T105417Z
SUMMARY:Velofahrkurs: Kurs B "Erste Ausfahrten"
DESCRIPTION:Wir üben im geschützten Raum und auf Quartierstrassen. Im\nMi
 ttelpunkt stehen die Regeln und das korrekte Verhalten im Verkehr.\nVom Ab
 standhalten über das Zeichengeben bis zum richtigen Abbiegen.\n\nFür Kin
 der ab 7 Jahren in Begleitung.\n
DTSTART:20210515T113000Z
DTEND:20210515T143000Z
LOCATION:Pilatusstrasse 59\, 6003 Luzern
GEO:47.046874;8.302352
X-APPLE-STRUCTURED-LOCATION;VALUE=URI;X-ADDRESS=Pilatusstrasse 59\, 6003 Lu
 zern;X-APPLE-RADIUS=49;X-TITLE=:geo:47.046874,8.302352
END:VEVENT
END:VCALENDAR
