BEGIN:VCALENDAR
PRODID:-//eluceo/ical//2.0/EN
VERSION:2.0
CALSCALE:GREGORIAN
BEGIN:VEVENT
UID:c73e91bc461e4676b1913df4004e5bd1
DTSTAMP:20260424T065012Z
SUMMARY:Velofahrkurs: Kurs A "Sicheres Terrain"
DESCRIPTION:Übungen im geschützten Raum (Verkehrsgarten oder Schulgeländ
 e). Wir\nvermitteln die elementaren Grundkenntnisse\, vom Aufsteigen bis z
 um\nselbstsicheren Kurven.\n\nFür Kinder ab 6 Jahren in Begleitung einer 
 erwachsenen Person.\n
DTSTART:20210424T070000Z
DTEND:20210424T100000Z
LOCATION:Schulhausstrasse\, 6023 Rothenburg
GEO:47.096971;8.268685
X-APPLE-STRUCTURED-LOCATION;VALUE=URI;X-ADDRESS=Schulhausstrasse\, 6023 Rot
 henburg;X-APPLE-RADIUS=49;X-TITLE=:geo:47.096971,8.268685
END:VEVENT
END:VCALENDAR
