BEGIN:VCALENDAR
PRODID:-//eluceo/ical//2.0/EN
VERSION:2.0
CALSCALE:GREGORIAN
BEGIN:VEVENT
UID:62b0b1a523463f2b5e1d0573861e0358
DTSTAMP:20260422T142758Z
SUMMARY:Enten und weiteres Gefieder am Rotsee
DESCRIPTION:Der Rotsee bei Luzern ist ein beliebtes Winterquartier für Ent
 en und\nandere Wasservögel\, die hier die nötige Ruhe finden.\n
DTSTART:20210313T130000Z
DTEND:20210313T160000Z
LOCATION:Rotseestrasse 18\, 6006 Luzern
GEO:47.067238;8.312071
X-APPLE-STRUCTURED-LOCATION;VALUE=URI;X-ADDRESS=Rotseestrasse 18\, 6006 Luz
 ern;X-APPLE-RADIUS=49;X-TITLE=:geo:47.067238,8.312071
END:VEVENT
END:VCALENDAR
