BEGIN:VCALENDAR
PRODID:-//eluceo/ical//2.0/EN
VERSION:2.0
CALSCALE:GREGORIAN
BEGIN:VEVENT
UID:0de84f937e8c8569b4dd06a7ebdf3fad
DTSTAMP:20260422T141920Z
SUMMARY:Start Samentauschbörse (Achtung\, findet in neuer Form statt!)
DESCRIPTION:Mit dem Tauschen von regional angepasstem Saatgut wird die\nKul
 turpflanzenvielfalt gefördert.\n
DTSTART;VALUE=DATE:20210306
LOCATION:Sternmattstrasse\, 6005 Luzern
GEO:47.041080;8.307952
X-APPLE-STRUCTURED-LOCATION;VALUE=URI;X-ADDRESS=Sternmattstrasse\, 6005 Luz
 ern;X-APPLE-RADIUS=49;X-TITLE=:geo:47.041080,8.307952
END:VEVENT
END:VCALENDAR
