BEGIN:VCALENDAR
PRODID:-//eluceo/ical//2.0/EN
VERSION:2.0
CALSCALE:GREGORIAN
BEGIN:VEVENT
UID:5235c511e68b7a6abbff3bae0cfb83c6
DTSTAMP:20260424T191502Z
SUMMARY:Ornithologische Highlights 2021
DESCRIPTION:Welches waren die eindrücklichsten Beobachtungen in der\nZentr
 alschweiz im Jahr 2021? Welche Entdeckungen gaben am meisten zu\nreden? We
 lche Fotos und Videos regten zum Staunen an\, z.B. auch über\nspezielle V
 erhaltensweisen?\n
DTSTART:20211209T190000Z
DTEND:20211209T203000Z
LOCATION:Kasernenplatz 6\, 6000 Luzern
GEO:47.051635;8.300946
X-APPLE-STRUCTURED-LOCATION;VALUE=URI;X-ADDRESS=Kasernenplatz 6\, 6000 Luze
 rn;X-APPLE-RADIUS=49;X-TITLE=:geo:47.051635,8.300946
END:VEVENT
END:VCALENDAR
