BEGIN:VCALENDAR
PRODID:-//eluceo/ical//2.0/EN
VERSION:2.0
CALSCALE:GREGORIAN
BEGIN:VEVENT
UID:801cbb42dcc17d8715a11784b1fd9d28
DTSTAMP:20260424T065059Z
SUMMARY:Kopfweidenpflege im Rottal
DESCRIPTION:Kopfweiden sind ein traditionelles Element vieler Kulturlandsch
 aften.\nDie Weidenruten wurden früher zum Binden und Flechten genutzt.\n
DTSTART:20211204T080000Z
DTEND:20211204T153000Z
END:VEVENT
END:VCALENDAR
