BEGIN:VCALENDAR
PRODID:-//eluceo/ical//2.0/EN
VERSION:2.0
CALSCALE:GREGORIAN
BEGIN:VEVENT
UID:f60f7a9ddbc70a69f788401f55d331f3
DTSTAMP:20260424T191501Z
SUMMARY:Ornithologische Weiterbildung 2021 – Modul 6
DESCRIPTION:Über das Comeback des Rotmilans: Die Rotmilan hat in den letzt
 en\nJahrzehnten die Schweiz zurückerobert. Er hat sich bei uns deutlich\n
 ausbreiten können\, während die Bestände in vielen Regionen Europas\nr
 ückläufig sind. Warum ist das so?\n
DTSTART;VALUE=DATE:20211201
END:VEVENT
END:VCALENDAR
