BEGIN:VCALENDAR
PRODID:-//eluceo/ical//2.0/EN
VERSION:2.0
CALSCALE:GREGORIAN
BEGIN:VEVENT
UID:222f4104d75af553fe8b0a54a9657d3a
DTSTAMP:20260424T191501Z
SUMMARY:Wie die toten den lebenden Vögeln helfen
DESCRIPTION:Weltweit lagern in Museumssammlungen mehr als 10 Millionen\nVog
 elbälge\, dazu kommen unzählige Eier\, Skelette\,\nFlüssigkeitspräpara
 te und Gewebeproben. Diese verstauben dort nicht\,\nsondern werden rege be
 nutzt.\n
DTSTART:20211129T170000Z
DTEND:20211129T183000Z
LOCATION:Kasernenplatz 6\, 6000 Luzern
GEO:47.051635;8.300946
X-APPLE-STRUCTURED-LOCATION;VALUE=URI;X-ADDRESS=Kasernenplatz 6\, 6000 Luze
 rn;X-APPLE-RADIUS=49;X-TITLE=:geo:47.051635,8.300946
END:VEVENT
END:VCALENDAR
