BEGIN:VCALENDAR
PRODID:-//eluceo/ical//2.0/EN
VERSION:2.0
CALSCALE:GREGORIAN
BEGIN:VEVENT
UID:77eaa767a7285c9bf61af39dc5013f26
DTSTAMP:20260424T065146Z
SUMMARY:Eisvogel & Co. am oberen Sempachersee
DESCRIPTION:Am Sempachersee ist der Eisvogel nach der Brutzeit regelmässig
  zu\nbeobachten. Wer seinen hohen Ruf kennt\, kann sich rechtzeitig auf de
 n\n«fliegenden Edelstein» einstellen.\n
DTSTART:20211106T080000Z
DTEND:20211106T110000Z
END:VEVENT
END:VCALENDAR
