BEGIN:VCALENDAR
PRODID:-//eluceo/ical//2.0/EN
VERSION:2.0
CALSCALE:GREGORIAN
BEGIN:VEVENT
UID:6f4484e4ef4deaf80bf8963d2de29194
DTSTAMP:20260424T191452Z
SUMMARY:Kurs Grundkenntnisse Naturschutz
DESCRIPTION:Aus der einen Hecke flattert der Neuntöter und im Unterholz ra
 scheln\nZauneidechsen. Eine andere Hecke wirkt fast unbelebt. Was macht ei
 ne\nökologisch wertvolle Hecke aus?\n
DTSTART;VALUE=DATE:20211101
DTEND;VALUE=DATE:20211102
END:VEVENT
END:VCALENDAR
