BEGIN:VCALENDAR
PRODID:-//eluceo/ical//2.0/EN
VERSION:2.0
CALSCALE:GREGORIAN
BEGIN:VEVENT
UID:ae933bd2538f381bc2f219cd68bd7c00
DTSTAMP:20260424T181831Z
SUMMARY:2. Zentralschweizer Naturtagung
DESCRIPTION:Wie kann der Verlust der natürlichen Vielfalt gestoppt werden?
  Welche\nProjekte im Naturschutz waren erfolgreich und warum? Erfahren Sie
 \nSpannendes aus dem Natur- und Landschaftsschutz in der Zentralschweiz.\n
DTSTART:20211030T110000Z
DTEND:20211030T150000Z
END:VEVENT
END:VCALENDAR
