BEGIN:VCALENDAR
PRODID:-//eluceo/ical//2.0/EN
VERSION:2.0
CALSCALE:GREGORIAN
BEGIN:VEVENT
UID:229dfbe455fb69b61ec64b422932ba93
DTSTAMP:20260424T181916Z
SUMMARY:Eulen – raffinierte Anpassungen an die Nacht
DESCRIPTION:Eulen ziehen uns Menschen seit jeher in ihren Bann. Ihr lautlos
 er Flug\nfasziniert ebenso wie ihre Fähigkeit\, selbst in völliger Dunke
 lheit\nNahrung zu schlagen. Auch in den Luzerner Wäldern leben mehrere\nE
 ulenarten.\n
DTSTART:20211028T180000Z
DTEND:20211028T193000Z
LOCATION:Kasernenplatz 6\, 6000 Luzern
GEO:47.051635;8.300946
X-APPLE-STRUCTURED-LOCATION;VALUE=URI;X-ADDRESS=Kasernenplatz 6\, 6000 Luze
 rn;X-APPLE-RADIUS=49;X-TITLE=:geo:47.051635,8.300946
END:VEVENT
END:VCALENDAR
