BEGIN:VCALENDAR
PRODID:-//eluceo/ical//2.0/EN
VERSION:2.0
CALSCALE:GREGORIAN
BEGIN:VEVENT
UID:c240b2a532528f0f1c8819c6bf7a57e7
DTSTAMP:20260424T065232Z
SUMMARY:Abfischen des Äschweihers
DESCRIPTION:Die Teichwirtschaft in der Region rund um das ehemalige Kloster
  St.\nUrban lebt mit dem Verein Karpfen pur Natur wieder auf. Damit wird a
 n\ndie alte Tradition der Zister­zienster-Mönche angeknüpft.\n
DTSTART:20211023T070000Z
DTEND:20211023T100000Z
END:VEVENT
END:VCALENDAR
