BEGIN:VCALENDAR
PRODID:-//eluceo/ical//2.0/EN
VERSION:2.0
CALSCALE:GREGORIAN
BEGIN:VEVENT
UID:d45ea63e895c9e909e45697688fd2cca
DTSTAMP:20260424T065246Z
SUMMARY:EuroBirdwatch 2021 – Vogelzug im Entlebuch
DESCRIPTION:Erleben Sie die Faszination Vogelzug hautnah in der Moorlandsch
 aft im\nEntlebuch! Im Mettilimoos oberhalb Entlebuch richten NaturNetz\nSc
 hüpfheim und BirdLife Luzern einen Beobachtungs- und\nInformationsstand e
 in.\n
DTSTART:20211003T060000Z
DTEND:20211003T150000Z
LOCATION:Metteli 1\, 6162 Entlebuch
GEO:46.982182;8.094150
X-APPLE-STRUCTURED-LOCATION;VALUE=URI;X-ADDRESS=Metteli 1\, 6162 Entlebuch;
 X-APPLE-RADIUS=49;X-TITLE=:geo:46.982182,8.094150
END:VEVENT
END:VCALENDAR
