BEGIN:VCALENDAR
PRODID:-//eluceo/ical//2.0/EN
VERSION:2.0
CALSCALE:GREGORIAN
BEGIN:VEVENT
UID:0fa9742c899b101949f48401ad6b36d8
DTSTAMP:20260424T181416Z
SUMMARY:EuroBirdwatch 2021 – Vogelzug auf dem Sonnenberg
DESCRIPTION:Erleben Sie die Faszination Vogelzug hautnah auf dem Krienser\n
 Sonnenberg! Hier richten KriensNatur und die Ornithologische\nGesellschaft
  der Stadt Luzern (OGL) einen Beobachtungs- und\nInformationsstand ein.\n
DTSTART:20211002T050000Z
DTEND:20211002T150000Z
LOCATION:Schwyzerhüsliweg\, 6010 Kriens
GEO:47.043841;8.280096
X-APPLE-STRUCTURED-LOCATION;VALUE=URI;X-ADDRESS=Schwyzerhüsliweg\, 6010 Kr
 iens;X-APPLE-RADIUS=49;X-TITLE=:geo:47.043841,8.280096
END:VEVENT
END:VCALENDAR
