BEGIN:VCALENDAR
PRODID:-//eluceo/ical//2.0/EN
VERSION:2.0
CALSCALE:GREGORIAN
BEGIN:VEVENT
UID:7009521ae9d187e53661352e2c5959b3
DTSTAMP:20260422T071801Z
SUMMARY:Ornithologische Weiterbildung 2021 – Modul 5
DESCRIPTION:Wenn die Vögel ziehen\nDer Vogelzug fasziniert die Menschen wo
 hl schon seit jeher und noch\nheute sind viele Fragen rund um dieses Natur
 phänomen offen: Wo genau\nverbringen die Vögel den Winter?\n
DTSTART;VALUE=DATE:20210923
END:VEVENT
END:VCALENDAR
