BEGIN:VCALENDAR
PRODID:-//eluceo/ical//2.0/EN
VERSION:2.0
CALSCALE:GREGORIAN
BEGIN:VEVENT
UID:927a9889a817b2e1dc2adf46229f8068
DTSTAMP:20260422T071802Z
SUMMARY:Königreich der Pilze
DESCRIPTION:Zusammen durchstreifen wir den Wald und lernen das riesige Reic
 h der\nPilze kennen.\n
DTSTART:20210919T070000Z
DTEND:20210919T113000Z
END:VEVENT
END:VCALENDAR
