BEGIN:VCALENDAR
PRODID:-//eluceo/ical//2.0/EN
VERSION:2.0
CALSCALE:GREGORIAN
BEGIN:VEVENT
UID:41ebc1c14ea2d584954eafa6354c5a27
DTSTAMP:20260422T071739Z
SUMMARY:Herbstzug: Vogelrastplatz Wauwilermoos
DESCRIPTION:Das Wauwilermoos ist eines der wichtigsten Naturschutzgebiete d
 es\nKantons Luzern. Auf der strapaziösen Reise in den Süden machen viele
 \nZugvögel in diesem Gebiet halt\, um Energie für die Weiterreise zu\nta
 nken.\n
DTSTART:20210911T050000Z
DTEND:20210911T090000Z
END:VEVENT
END:VCALENDAR
