BEGIN:VCALENDAR
PRODID:-//eluceo/ical//2.0/EN
VERSION:2.0
CALSCALE:GREGORIAN
BEGIN:VEVENT
UID:82b3097aa0ee4494a02160b29838ab3f
DTSTAMP:20260422T071801Z
SUMMARY:Ornithologische Weiterbildung 2021 – Modul 1
DESCRIPTION:Werkzeuge der Feldornithologie «Enten im Schlichtkleid\, Möwe
 n\,\nGreifvögel oder Zilpzalp/Fitis? Nein\, da lasse ich lieber die Finge
 r\ndavon».\n
DTSTART;VALUE=DATE:20210907
END:VEVENT
END:VCALENDAR
